BEGIN:VCALENDAR
VERSION:2.0
PRODID:-//Volume.com//Volume.com//
BEGIN:VEVENT
SUMMARY:BGM with Kyle Tuttle
DTSTART;TZID=US/Central:20260420T180000
DTEND;TZID=US/Central:20260420T210000
DESCRIPTION:📺 Where to Watch:\nhttps://volume.com/deeslounge/\n\n🎟
 ️ Get Your Ticket:\nhttps://volume.com/t/ohTOHt/\n\nShow Details:\nBGM w
 ith Kyle Tuttle / Miss Jackie Straw
END:VEVENT
BEGIN:VEVENT
SUMMARY:Miss Jackie Straw
DTSTART;TZID=US/Central:20260420T210000
DTEND;TZID=US/Central:20260420T230000
DESCRIPTION:📺 Where to Watch:\nhttps://volume.com/deeslounge/\n\n🎟
 ️ Get Your Ticket:\nhttps://volume.com/t/ohTOHt/\n\nShow Details:\nBGM w
 ith Kyle Tuttle / Miss Jackie Straw
END:VEVENT
END:VCALENDAR
